BEGIN:VCALENDAR
VERSION:2.0
PRODID:icalendar-ruby
CALSCALE:GREGORIAN
METHOD:PUBLISH
BEGIN:VEVENT
DTSTAMP:20260425T130803Z
UID:45-225714@hickorygrovembbaptistchurch.org
DTSTART:20261101T160000Z
DTEND:20261101T180000Z
CLASS:PUBLIC
CREATED:20260425T070649
DESCRIPTION:Sunday Morning Worshipo is not about our entertainment  but Go
 d's glory and the formation of our lives to Christ and His kingdom. We wor
 ship through muscial worship\, reading of the scripture\, prayer\, and the
  preaching of God's Holy Word\,
LAST-MODIFIED:20260425T070649
LOCATION:Hickory Grove Sanctuary
SUMMARY:Sunday Morning Worship
URL;VALUE=URI:https://hickorygrovembbaptistchurch.org/events/sunday-morning
 -worship/2026-11-01
ATTACH;FILENAME=istockphoto-1474994990-612x612.jpg;FMTTYPE=image/jpeg:https
 ://dq5pwpg1q8ru0.cloudfront.net/2025/01/26/18/29/16/3a254fdd-ad3c-48bd-b74
 6-3f3a7f3d68d4/istockphoto-1474994990-612x612.jpg
END:VEVENT
END:VCALENDAR
